BEGIN:VCALENDAR
VERSION:2.0
PRODID:-// - ECPv6.15.20//NONSGML v1.0//EN
CALSCALE:GREGORIAN
METHOD:PUBLISH
X-ORIGINAL-URL:https://www.caltrin.org
X-WR-CALDESC:Events for 
REFRESH-INTERVAL;VALUE=DURATION:PT1H
X-Robots-Tag:noindex
X-PUBLISHED-TTL:PT1H
BEGIN:VTIMEZONE
TZID:America/Los_Angeles
BEGIN:DAYLIGHT
TZOFFSETFROM:-0800
TZOFFSETTO:-0700
TZNAME:PDT
DTSTART:20250309T100000
END:DAYLIGHT
BEGIN:STANDARD
TZOFFSETFROM:-0700
TZOFFSETTO:-0800
TZNAME:PST
DTSTART:20251102T090000
END:STANDARD
BEGIN:DAYLIGHT
TZOFFSETFROM:-0800
TZOFFSETTO:-0700
TZNAME:PDT
DTSTART:20260308T100000
END:DAYLIGHT
BEGIN:STANDARD
TZOFFSETFROM:-0700
TZOFFSETTO:-0800
TZNAME:PST
DTSTART:20261101T090000
END:STANDARD
BEGIN:DAYLIGHT
TZOFFSETFROM:-0800
TZOFFSETTO:-0700
TZNAME:PDT
DTSTART:20270314T100000
END:DAYLIGHT
BEGIN:STANDARD
TZOFFSETFROM:-0700
TZOFFSETTO:-0800
TZNAME:PST
DTSTART:20271107T090000
END:STANDARD
END:VTIMEZONE
BEGIN:VEVENT
DTSTART;TZID=America/Los_Angeles:20260422T090000
DTEND;TZID=America/Los_Angeles:20260422T100000
DTSTAMP:20260419T231549
CREATED:20260324T210421Z
LAST-MODIFIED:20260324T210421Z
UID:10001420-1776848400-1776852000@www.caltrin.org
SUMMARY:Addressing Borderline Personality Disorder in Adolescents
DESCRIPTION:Adolescents with borderline personality disorder (BPD) often experience intense emotions\, relationship instability\, and rapid mood shifts that can feel alarming to the adults around them. Without a clear understanding\, these teens are frequently misunderstood\, leading to delayed or ineffective support. \nThis session from McLean Hospital’s Deconstructing Stigma project provides a grounded\, compassionate introduction to how BPD presents in adolescents and how families\, educators\, and clinicians can respond with clarity and confidence. \nREGISTER HERE \n 
URL:https://www.caltrin.org/event/addressing-borderline-personality-disorder-in-adolescents/
LOCATION:Online Event
CATEGORIES:Webinar
END:VEVENT
BEGIN:VEVENT
DTSTART;TZID=America/Los_Angeles:20260422T110000
DTEND;TZID=America/Los_Angeles:20260422T123000
DTSTAMP:20260419T231549
CREATED:20260313T201414Z
LAST-MODIFIED:20260313T201415Z
UID:10001413-1776855600-1776861000@www.caltrin.org
SUMMARY:Child Abuse Prevention Month Webinar Series
DESCRIPTION:The Office of Child Abuse Prevention\, The Child Abuse Prevention Center\, The California Training Institute\, and Safe & Sound present the 2026 Child Abuse Prevention Month annual webinar series. Join us every Wednesday throughout April to learn how to incorporate this year’s theme\, “Strong Families\, Safe Futures: When We Care Together\, Families Thrive\,” into statewide prevention initiatives. \nLearn More & Register for Sessions!
URL:https://www.caltrin.org/event/child-abuse-prevention-month-webinar-series/2026-04-22/
LOCATION:Online Event
CATEGORIES:CalTrin-Hosted,Webinar
ATTACH;FMTTYPE=image/png:https://www.caltrin.org/wp-content/uploads/2023/03/CAP-Month-Webinar-Slides_2026-Final-Template.png
ORGANIZER;CN="California Training Institute (CalTrin)":MAILTO:info@caltrin.org
END:VEVENT
BEGIN:VEVENT
DTSTART;TZID=America/Los_Angeles:20260429T100000
DTEND;TZID=America/Los_Angeles:20260429T120000
DTSTAMP:20260419T231549
CREATED:20260321T015914Z
LAST-MODIFIED:20260321T015914Z
UID:10001418-1777456800-1777464000@www.caltrin.org
SUMMARY:2026 Child Welfare Legislative and Budget Priorities
DESCRIPTION:As California enters the 2026-2027 fiscal year\, significant policy decisions will shape the support\, services\, and opportunities available to children and youth involved in the child welfare system. Join for a discussion of the major bills and budget proposals that aim to strengthen stability\, expand access to critical resources\, and improve outcomes for children\, youth\, and caregivers across the state. \nThe Alliance for Children’s Rights\, together with the California Alliance of Child and Family Services\, California Coalition for Youth\, California Tribal Families Coalition\, Children’s Law Center of California\, Children Now\, County Welfare Directors Association of California\, John Burton Advocates for Youth\, and the Youth Law Center will provide an overview of key legislative initiatives and budget proposals designed to promote stability and well‑being for youth in California’s child welfare system.
URL:https://www.caltrin.org/event/2026-child-welfare-legislative-and-budget-priorities/
LOCATION:Online Event
CATEGORIES:Webinar
END:VEVENT
BEGIN:VEVENT
DTSTART;TZID=America/Los_Angeles:20260429T110000
DTEND;TZID=America/Los_Angeles:20260429T123000
DTSTAMP:20260419T231549
CREATED:20260313T201414Z
LAST-MODIFIED:20260313T201415Z
UID:10001414-1777460400-1777465800@www.caltrin.org
SUMMARY:Child Abuse Prevention Month Webinar Series
DESCRIPTION:The Office of Child Abuse Prevention\, The Child Abuse Prevention Center\, The California Training Institute\, and Safe & Sound present the 2026 Child Abuse Prevention Month annual webinar series. Join us every Wednesday throughout April to learn how to incorporate this year’s theme\, “Strong Families\, Safe Futures: When We Care Together\, Families Thrive\,” into statewide prevention initiatives. \nLearn More & Register for Sessions!
URL:https://www.caltrin.org/event/child-abuse-prevention-month-webinar-series/2026-04-29/
LOCATION:Online Event
CATEGORIES:CalTrin-Hosted,Webinar
ATTACH;FMTTYPE=image/png:https://www.caltrin.org/wp-content/uploads/2023/03/CAP-Month-Webinar-Slides_2026-Final-Template.png
ORGANIZER;CN="California Training Institute (CalTrin)":MAILTO:info@caltrin.org
END:VEVENT
BEGIN:VEVENT
DTSTART;TZID=America/Los_Angeles:20260430T090000
DTEND;TZID=America/Los_Angeles:20260430T100000
DTSTAMP:20260419T231549
CREATED:20260325T030227Z
LAST-MODIFIED:20260325T030227Z
UID:10001421-1777539600-1777543200@www.caltrin.org
SUMMARY:Raising Calm Minds: Mindfulness Techniques for Home and Schools
DESCRIPTION:From classrooms to living rooms\, kids today face more distractions and stressors than ever before. Mindfulness practices can offer children and teens simple\, powerful tools to calm their minds\, regulate their emotions\, and stay focused. This training from the McLean Hospital’s Deconstructing Stigma project will share easy-to-use strategies that parents\, caregivers\, and educators can apply right away. \nREGISTER HERE \nWhy This Training Matters\nChildren and teens benefit from learning mindfulness skills early in life\, as mindfulness can improve focus\, build resilience\, and strengthen emotional regulation. Adults play a critical role in modeling and supporting these practices at home and in schools. \nWhat You’ll Learn\n\nThe science behind mindfulness and child development\nSimple practices kids can use to stay calm and focused\nStrategies for integrating mindfulness into classrooms and family routines\nResources to keep mindfulness practices consistent and fun
URL:https://www.caltrin.org/event/raising-calm-minds-mindfulness-techniques-for-home-and-schools/
LOCATION:Online Event
CATEGORIES:Webinar
END:VEVENT
BEGIN:VEVENT
DTSTART;TZID=America/Los_Angeles:20260506T110000
DTEND;TZID=America/Los_Angeles:20260506T120000
DTSTAMP:20260419T231549
CREATED:20260312T213726Z
LAST-MODIFIED:20260312T213727Z
UID:10001409-1778065200-1778068800@www.caltrin.org
SUMMARY:CalKIDS Scholarships Overview
DESCRIPTION:This webinar provides information about the CalKIDS Scholarship program\, the nation’s largest child development and savings account program. The program provides an initial deposit into a 529 educational account for all California children born on or after July 1\, 2022\, and additional funds for eligible California public school children based on LCFF data\, such as low-income\, English language learners\, foster\, and homeless youth. The webinar concludes by presenting information about how community organizations can partner with us to help spread the word to the children and families they serve.  \nEste seminario virtual se presentará en inglés con interpretación al español.   \nLearn More & Register
URL:https://www.caltrin.org/event/calkids-scholarships-overview/
LOCATION:Online Event
CATEGORIES:CalTrin-Hosted,Webinar
ATTACH;FMTTYPE=image/png:https://www.caltrin.org/wp-content/uploads/2026/03/Webinar-Tile_CalKIDS-Scholarships.png
ORGANIZER;CN="California Training Institute (CalTrin)":MAILTO:info@caltrin.org
END:VEVENT
BEGIN:VEVENT
DTSTART;TZID=America/Los_Angeles:20260507T130000
DTEND;TZID=America/Los_Angeles:20260507T140000
DTSTAMP:20260419T231549
CREATED:20260319T210328Z
LAST-MODIFIED:20260319T210409Z
UID:10001417-1778158800-1778162400@www.caltrin.org
SUMMARY:Use of Self-Assessment Tools in Coaching
DESCRIPTION:Beyond the conversations\, coaches often leverage assessments to provide additional insights and increase their clients’ self-awareness in various aspects such as priorities\, values\, needs\, strengths\, personality\, behavior\, and interpersonal preferences. The usage of such assessment tools can be extremely valuable and need to be chosen with the client’s needs in mind. In this session\, we will explore when and how to use self-assessment tools in the coaching context. \nLearn More & Register
URL:https://www.caltrin.org/event/use-of-self-assessment-tools-in-coaching/
LOCATION:Online Event
CATEGORIES:CalTrin-Hosted,Webinar
ATTACH;FMTTYPE=image/png:https://www.caltrin.org/wp-content/uploads/2026/03/Webinar-Tile_Self-Assessment-Tools-in-Coaching.png
ORGANIZER;CN="California Training Institute (CalTrin)":MAILTO:info@caltrin.org
END:VEVENT
BEGIN:VEVENT
DTSTART;TZID=America/Los_Angeles:20260512T100000
DTEND;TZID=America/Los_Angeles:20260512T110000
DTSTAMP:20260419T231549
CREATED:20260323T192053Z
LAST-MODIFIED:20260323T192058Z
UID:10001419-1778580000-1778583600@www.caltrin.org
SUMMARY:Microaggressions
DESCRIPTION:Dive into the science behind microaggressions\, exploring why they occur and how they manifest in the workplace. Learn key tactics to prevent them from influencing decisions and judgments\, and understand their impact on marginalized individuals. Scenario-based examples encourage you to critically consider how to mitigate microaggressions every day. \nEste seminario virtual se presentará en inglés con interpretación al español. \nLearn More & Register
URL:https://www.caltrin.org/event/microaggressions/
LOCATION:Online Event
CATEGORIES:CalTrin-Hosted,Webinar
ATTACH;FMTTYPE=image/png:https://www.caltrin.org/wp-content/uploads/2026/03/Webinar-Tile_Microaggressions.png
ORGANIZER;CN="California Training Institute (CalTrin)":MAILTO:info@caltrin.org
END:VEVENT
BEGIN:VEVENT
DTSTART;TZID=America/Los_Angeles:20260520T090000
DTEND;TZID=America/Los_Angeles:20260520T100000
DTSTAMP:20260419T231549
CREATED:20260325T030644Z
LAST-MODIFIED:20260325T030644Z
UID:10001422-1779267600-1779271200@www.caltrin.org
SUMMARY:Navigating Postpartum Depression
DESCRIPTION:Many new parents experience intense emotional changes after childbirth—from brief “baby blues” to more persistent and debilitating postpartum depression (PPD). Knowing how to distinguish typical adjustment from a clinical condition is critical for early support and effective intervention. \nIn this session from the McLean Hospital’s Deconstructing Stigma project\, Dr. Jennifer L. Payne breaks down how postpartum depression differs from common mood changes\, explores biological and environmental contributors\, and discusses tools clinicians\, loved ones\, and impacted families can use to identify\, support\, and treat PPD. \nREGISTER HERE \nWhy This Training Matters\nPostpartum depression affects a substantial number of new parents\, yet it is often misunderstood\, misdiagnosed\, or overlooked entirely. The emotional challenges in the weeks and months after childbirth overlap with normal adjustment\, making early signs easy to miss and delaying help-seeking. Understanding these distinctions can reduce stigma and open pathways to effective care. \nThis session provides clarity on what postpartum depression is\, how it develops\, when it becomes concerning\, and why biological\, hormonal\, and psychosocial factors matter in recognition and treatment. Participants will learn how to respond with both sensitivity and clinical awareness\, fostering better outcomes for individuals\, families\, and communities.
URL:https://www.caltrin.org/event/navigating-postpartum-depression/
LOCATION:Online Event
CATEGORIES:Webinar
END:VEVENT
BEGIN:VEVENT
DTSTART;TZID=America/Los_Angeles:20260520T090000
DTEND;TZID=America/Los_Angeles:20260520T103000
DTSTAMP:20260419T231549
CREATED:20260325T233433Z
LAST-MODIFIED:20260325T234346Z
UID:10001423-1779267600-1779273000@www.caltrin.org
SUMMARY:Foundational Skills in Making Conflict Work
DESCRIPTION:In today’s world of work\, three things are certain: there will be change; there will be stress; and these two factors will lead to conflict. Unattended conflict can have a disastrous effect on the well-being of teams and organizations. How do we bring our teams together in the face of shifting mandates\, resource shortages\, and other stressors? \nHealthy conflict can be a source of growth\, opportunity\, and success. This training provides foundational skills in conflict resolution. \nEste seminario virtual se presentará en inglés con interpretación al español. CEUs available! \nLearn More & Register
URL:https://www.caltrin.org/event/foundational-skills-in-making-conflict-work/
LOCATION:Online Event
CATEGORIES:CalTrin-Hosted,Webinar
ATTACH;FMTTYPE=image/png:https://www.caltrin.org/wp-content/uploads/2026/03/Webinar-Tile_Foundational-Skills-Conflict.png
ORGANIZER;CN="California Training Institute (CalTrin)":MAILTO:info@caltrin.org
END:VEVENT
BEGIN:VEVENT
DTSTART;TZID=America/Los_Angeles:20260521T090000
DTEND;TZID=America/Los_Angeles:20260521T110000
DTSTAMP:20260419T231549
CREATED:20260327T204352Z
LAST-MODIFIED:20260327T204353Z
UID:10001425-1779354000-1779361200@www.caltrin.org
SUMMARY:Protective Factor of the Month: Social & Emotional Competence of Children
DESCRIPTION:The May Protective Factor of the month is Social & Emotional Competence of Children! This webinar is designed for child- and family-serving professionals at all levels of Protective Factors knowledge or experience. \nDuring this session we will discuss everyday strategies for helping children build social and emotional competence.  \nInterpretación en español \nLearn More & Register
URL:https://www.caltrin.org/event/protective-factor-of-the-month-social-emotional-competence-of-children-3/
LOCATION:Online Event
CATEGORIES:CalTrin-Hosted,Webinar
ATTACH;FMTTYPE=image/png:https://www.caltrin.org/wp-content/uploads/2022/05/PF_Social-Emotional-Comp.png
ORGANIZER;CN="California Training Institute (CalTrin)":MAILTO:info@caltrin.org
END:VEVENT
BEGIN:VEVENT
DTSTART;TZID=America/Los_Angeles:20260602T130000
DTEND;TZID=America/Los_Angeles:20260602T140000
DTSTAMP:20260419T231549
CREATED:20260410T195042Z
LAST-MODIFIED:20260410T195044Z
UID:10001428-1780405200-1780408800@www.caltrin.org
SUMMARY:Leaning Into Resistance
DESCRIPTION:When it comes to the idea of resistance\, it is important to recognize that it happens…to all of us. Resistance can happen under many different circumstances. In this module\, we will explore why resistance happens in the coaching context. Participants will learn to recognize indicators of resistance and identify ways to work with it. \nLearn More & Register
URL:https://www.caltrin.org/event/leaning-into-resistance/
LOCATION:Online Event
CATEGORIES:CalTrin-Hosted,Webinar
ATTACH;FMTTYPE=image/png:https://www.caltrin.org/wp-content/uploads/2026/04/Webinar-Tile_Leaning-into-Resistance.png
ORGANIZER;CN="California Training Institute (CalTrin)":MAILTO:info@caltrin.org
END:VEVENT
BEGIN:VEVENT
DTSTART;TZID=America/Los_Angeles:20260603T093000
DTEND;TZID=America/Los_Angeles:20260603T110000
DTSTAMP:20260419T231549
CREATED:20260314T013545Z
LAST-MODIFIED:20260314T013545Z
UID:10001415-1780479000-1780484400@www.caltrin.org
SUMMARY:Connection Is Protection: Keeping Kids Connected to Culture and Tribe Regardless of ICWA Status
DESCRIPTION:***Training offered by UC Davis Human Services | Resource Center for Family-Focused Practice \nREGISTER HERE \nConnection to culture and Tribal community should not depend on whether ICWA applies.  \nYouth in out-of-home care experience separation and disconnection every day — from family\, community\, culture\, and the routines that create stability and familiarity. Over time\, this disruption can also destabilize a young person’s sense of identity and belonging. For American Indian and Alaska Native children and families\, this harm is compounded by historical injustices\, including deliberate efforts to dismantle Tribal communities and child removal practices that targeted Native children.  \nCultural connection is often approached as secondary or optional in practice. Yet\, it is a protective factor – regardless if ICWA applies. When children and youth have a strong cultural identity and meaningful relationships with their Tribe and community\, they can experience a greater sense of belonging that can buffer the harms of system involvement and build resilience.   \nIn this ECHO session\, we will focus on practical\, everyday strategies professionals can use to help children\, youth\, and families develop or strengthen meaningful connections to their culture and Tribe(s) – whether ICWA applies or not. We will also examine how authentic Tribal engagement impacts outcomes\, including research showing that when Tribes are actively involved\, children spend 100 less days in out of home care.   \nParticipants will leave with actionable ideas they can integrate immediately into their work.  \nWho Should Attend:  \nThis series is designed for social workers\, juvenile probation officers and other child and family serving professionals and will provide digestible\, practical support focused on ICWA practice\, Tribal sovereignty and respectful collaboration and partnership with Tribes.  
URL:https://www.caltrin.org/event/connection-is-protection-keeping-kids-connected-to-culture-and-tribe-regardless-of-icwa-status/
LOCATION:Online Event
CATEGORIES:Webinar
END:VEVENT
BEGIN:VEVENT
DTSTART;TZID=America/Los_Angeles:20260618T130000
DTEND;TZID=America/Los_Angeles:20260618T150000
DTSTAMP:20260419T231549
CREATED:20260315T000038Z
LAST-MODIFIED:20260315T000038Z
UID:10001416-1781787600-1781794800@www.caltrin.org
SUMMARY:Summer 2026 Family First Prevention Services Town Hall: Partnership in Prevention Practice
DESCRIPTION:The Summer 2026 FFPS Town Hall\, Partnership in Prevention Practice\, is presented by CDSS and CFPIC. It will focus on how Family First Prevention Services implementation aligns with local System of Care efforts. The session will explore how cross-sector partnerships can advance a shared vision and responsibility for child and family well-being through greater alignment\, intentionality\, and effectiveness. Key discussion areas will include Family Well-Being Planning\, Continuous Quality Improvement training\, developing partnership agreements\, and identifying shared outcomes for child and family well-being\, with attention to practical strategies such as warm handoffs\, shared decision making\, and strengthening collaboration across systems to improve family access\, trust\, and engagement. \nREGISTER HERE
URL:https://www.caltrin.org/event/summer-2026-family-first-prevention-services-town-hall-partnership-in-prevention-practice/
LOCATION:Online Event
CATEGORIES:Webinar
END:VEVENT
END:VCALENDAR