BEGIN:VCALENDAR
VERSION:2.0
PRODID:-// - ECPv6.15.20//NONSGML v1.0//EN
CALSCALE:GREGORIAN
METHOD:PUBLISH
X-ORIGINAL-URL:https://www.caltrin.org
X-WR-CALDESC:Events for 
REFRESH-INTERVAL;VALUE=DURATION:PT1H
X-Robots-Tag:noindex
X-PUBLISHED-TTL:PT1H
BEGIN:VTIMEZONE
TZID:America/Los_Angeles
BEGIN:DAYLIGHT
TZOFFSETFROM:-0800
TZOFFSETTO:-0700
TZNAME:PDT
DTSTART:20250309T100000
END:DAYLIGHT
BEGIN:STANDARD
TZOFFSETFROM:-0700
TZOFFSETTO:-0800
TZNAME:PST
DTSTART:20251102T090000
END:STANDARD
BEGIN:DAYLIGHT
TZOFFSETFROM:-0800
TZOFFSETTO:-0700
TZNAME:PDT
DTSTART:20260308T100000
END:DAYLIGHT
BEGIN:STANDARD
TZOFFSETFROM:-0700
TZOFFSETTO:-0800
TZNAME:PST
DTSTART:20261101T090000
END:STANDARD
BEGIN:DAYLIGHT
TZOFFSETFROM:-0800
TZOFFSETTO:-0700
TZNAME:PDT
DTSTART:20270314T100000
END:DAYLIGHT
BEGIN:STANDARD
TZOFFSETFROM:-0700
TZOFFSETTO:-0800
TZNAME:PST
DTSTART:20271107T090000
END:STANDARD
END:VTIMEZONE
BEGIN:VEVENT
DTSTART;TZID=America/Los_Angeles:20260421T090000
DTEND;TZID=America/Los_Angeles:20260421T133000
DTSTAMP:20260423T010827
CREATED:20260226T192625Z
LAST-MODIFIED:20260226T192627Z
UID:10001403-1776762000-1776778200@www.caltrin.org
SUMMARY:Reflective & Trauma-Informed Supervision
DESCRIPTION:In this workshop\, participants will develop greater understanding of their own leadership and supervisory style; learn how to prioritize supervisory and leadership goals; and learn the building blocks of reflective supervision. You will also learn the core competencies of trauma-informed supervision and how to apply them for your own well-being\, staff well-being\, and team/organizational climate and culture. Finally\, participants will apply the knowledge and skills they have learned in a problem-based learning scenario. \nLearn More & Apply
URL:https://www.caltrin.org/event/reflective-trauma-informed-supervision/
LOCATION:Online Event
CATEGORIES:CalTrin-Hosted,Interactive Workshop,Small-group training (virtual)
ATTACH;FMTTYPE=image/png:https://www.caltrin.org/wp-content/uploads/2023/10/Webinar-Tile_Reflective-TI-Supervision.png
ORGANIZER;CN="California Training Institute (CalTrin)":MAILTO:info@caltrin.org
END:VEVENT
END:VCALENDAR